BEGIN:VCALENDAR
VERSION:2.0
PRODID:-//McGee Company - ECPv6.15.20//NONSGML v1.0//EN
CALSCALE:GREGORIAN
METHOD:PUBLISH
X-ORIGINAL-URL:https://www.mcgeecompany.com
X-WR-CALDESC:Events for McGee Company
REFRESH-INTERVAL;VALUE=DURATION:PT1H
X-Robots-Tag:noindex
X-PUBLISHED-TTL:PT1H
BEGIN:VTIMEZONE
TZID:America/Denver
BEGIN:DAYLIGHT
TZOFFSETFROM:-0700
TZOFFSETTO:-0600
TZNAME:MDT
DTSTART:20240310T090000
END:DAYLIGHT
BEGIN:STANDARD
TZOFFSETFROM:-0600
TZOFFSETTO:-0700
TZNAME:MST
DTSTART:20241103T080000
END:STANDARD
BEGIN:DAYLIGHT
TZOFFSETFROM:-0700
TZOFFSETTO:-0600
TZNAME:MDT
DTSTART:20250309T090000
END:DAYLIGHT
BEGIN:STANDARD
TZOFFSETFROM:-0600
TZOFFSETTO:-0700
TZNAME:MST
DTSTART:20251102T080000
END:STANDARD
BEGIN:DAYLIGHT
TZOFFSETFROM:-0700
TZOFFSETTO:-0600
TZNAME:MDT
DTSTART:20260308T090000
END:DAYLIGHT
BEGIN:STANDARD
TZOFFSETFROM:-0600
TZOFFSETTO:-0700
TZNAME:MST
DTSTART:20261101T080000
END:STANDARD
END:VTIMEZONE
BEGIN:VEVENT
DTSTART;TZID=America/Denver:20250327T080000
DTEND;TZID=America/Denver:20250329T170000
DTSTAMP:20260420T184613
CREATED:20240829T154550Z
LAST-MODIFIED:20240829T154704Z
UID:10821-1743062400-1743267600@www.mcgeecompany.com
SUMMARY:Mid-America Trucking Show
DESCRIPTION:The Mid-America Trucking Show is the largest annual heavy-duty trucking event in the world. The upcoming event is one you won’t want to miss. It will be at the Kentucky Exposition Center in Louisville\, KY. Come check us out as we show off the latest from McGee Company and showcase AutoSock! Visit our booth on display from March 27th – 29th 2025. 
URL:https://www.mcgeecompany.com/event/mid-america-trucking-show/
LOCATION:Kentucky Exposition Center\, 937 Philips Ln\, Louisville\, KY\, United States
CATEGORIES:Exhibit
ATTACH;FMTTYPE=image/jpeg:https://www.mcgeecompany.com/wp-content/uploads/2024/08/395518351_725790272923084_2656119955937071324_n.jpg
END:VEVENT
END:VCALENDAR