BEGIN:VCALENDAR
VERSION:2.0
PRODID:-//McGee Company - ECPv6.15.20//NONSGML v1.0//EN
CALSCALE:GREGORIAN
METHOD:PUBLISH
X-WR-CALNAME:McGee Company
X-ORIGINAL-URL:https://www.mcgeecompany.com
X-WR-CALDESC:Events for McGee Company
REFRESH-INTERVAL;VALUE=DURATION:PT1H
X-Robots-Tag:noindex
X-PUBLISHED-TTL:PT1H
BEGIN:VTIMEZONE
TZID:America/Denver
BEGIN:DAYLIGHT
TZOFFSETFROM:-0700
TZOFFSETTO:-0600
TZNAME:MDT
DTSTART:20230312T090000
END:DAYLIGHT
BEGIN:STANDARD
TZOFFSETFROM:-0600
TZOFFSETTO:-0700
TZNAME:MST
DTSTART:20231105T080000
END:STANDARD
BEGIN:DAYLIGHT
TZOFFSETFROM:-0700
TZOFFSETTO:-0600
TZNAME:MDT
DTSTART:20240310T090000
END:DAYLIGHT
BEGIN:STANDARD
TZOFFSETFROM:-0600
TZOFFSETTO:-0700
TZNAME:MST
DTSTART:20241103T080000
END:STANDARD
BEGIN:DAYLIGHT
TZOFFSETFROM:-0700
TZOFFSETTO:-0600
TZNAME:MDT
DTSTART:20250309T090000
END:DAYLIGHT
BEGIN:STANDARD
TZOFFSETFROM:-0600
TZOFFSETTO:-0700
TZNAME:MST
DTSTART:20251102T080000
END:STANDARD
END:VTIMEZONE
BEGIN:VEVENT
DTSTART;TZID=America/Denver:20241007T090000
DTEND;TZID=America/Denver:20241009T230000
DTSTAMP:20260423T032428
CREATED:20240822T211838Z
LAST-MODIFIED:20240822T220116Z
UID:10802-1728291600-1728514800@www.mcgeecompany.com
SUMMARY:CMCA Colorado Motor Carriers Association Annual Convention
DESCRIPTION:The Colorado Motor Carriers Association’s annual convention is coming to Beaver Creek\, CO on October 7th – 9th\, 2024. This convention brings together organizations from all areas of the trucking industry for networking and professional development. This year\, you can see our McGee Company and AutoSock booth to learn more about how we can provide for you and your company. Registration closes on September 25\, so be sure to register soon! \n 
URL:https://www.mcgeecompany.com/event/cmca-colorado-motor-carriers-association-annual-convention/
LOCATION:Park Hyatt Beaver Creek\, 136 E Thomas Place\, Beaver Creek\, CO\, 81620\, United States
CATEGORIES:Exhibit
ATTACH;FMTTYPE=image/jpeg:https://www.mcgeecompany.com/wp-content/uploads/2024/08/314501009_5821751601217341_3918014837982526582_n.jpg
END:VEVENT
END:VCALENDAR