BEGIN:VCALENDAR
VERSION:2.0
PRODID:-//McGee Company - ECPv6.15.20//NONSGML v1.0//EN
CALSCALE:GREGORIAN
METHOD:PUBLISH
X-ORIGINAL-URL:https://www.mcgeecompany.com
X-WR-CALDESC:Events for McGee Company
REFRESH-INTERVAL;VALUE=DURATION:PT1H
X-Robots-Tag:noindex
X-PUBLISHED-TTL:PT1H
BEGIN:VTIMEZONE
TZID:America/Denver
BEGIN:DAYLIGHT
TZOFFSETFROM:-0700
TZOFFSETTO:-0600
TZNAME:MDT
DTSTART:20230312T090000
END:DAYLIGHT
BEGIN:STANDARD
TZOFFSETFROM:-0600
TZOFFSETTO:-0700
TZNAME:MST
DTSTART:20231105T080000
END:STANDARD
BEGIN:DAYLIGHT
TZOFFSETFROM:-0700
TZOFFSETTO:-0600
TZNAME:MDT
DTSTART:20240310T090000
END:DAYLIGHT
BEGIN:STANDARD
TZOFFSETFROM:-0600
TZOFFSETTO:-0700
TZNAME:MST
DTSTART:20241103T080000
END:STANDARD
BEGIN:DAYLIGHT
TZOFFSETFROM:-0700
TZOFFSETTO:-0600
TZNAME:MDT
DTSTART:20250309T090000
END:DAYLIGHT
BEGIN:STANDARD
TZOFFSETFROM:-0600
TZOFFSETTO:-0700
TZNAME:MST
DTSTART:20251102T080000
END:STANDARD
END:VTIMEZONE
BEGIN:VEVENT
DTSTART;TZID=America/Denver:20241005T100000
DTEND;TZID=America/Denver:20241006T200000
DTSTAMP:20260421T013958
CREATED:20240822T205918Z
LAST-MODIFIED:20240822T210147Z
UID:10792-1728122400-1728244800@www.mcgeecompany.com
SUMMARY:California Trucking Show
DESCRIPTION:The California Trucking Show is one of the best shows of the year! The showcase will be full of great exhibitions and people coming together for the trucking industry. Join us in Ontario\, CA on October 5th & 6th\, 2024 to visit our booth and learn more about AutoSock and McGee Company.
URL:https://www.mcgeecompany.com/event/california-trucking-show/
LOCATION:Ontario Convention Center\, 2000 E Convention Center Way\, Ontario\, CA\, 91764\, United States
CATEGORIES:Exhibit
ATTACH;FMTTYPE=image/png:https://www.mcgeecompany.com/wp-content/uploads/2024/08/logo.png
END:VEVENT
BEGIN:VEVENT
DTSTART;TZID=America/Denver:20241007T090000
DTEND;TZID=America/Denver:20241009T230000
DTSTAMP:20260421T013958
CREATED:20240822T211838Z
LAST-MODIFIED:20240822T220116Z
UID:10802-1728291600-1728514800@www.mcgeecompany.com
SUMMARY:CMCA Colorado Motor Carriers Association Annual Convention
DESCRIPTION:The Colorado Motor Carriers Association’s annual convention is coming to Beaver Creek\, CO on October 7th – 9th\, 2024. This convention brings together organizations from all areas of the trucking industry for networking and professional development. This year\, you can see our McGee Company and AutoSock booth to learn more about how we can provide for you and your company. Registration closes on September 25\, so be sure to register soon! \n 
URL:https://www.mcgeecompany.com/event/cmca-colorado-motor-carriers-association-annual-convention/
LOCATION:Park Hyatt Beaver Creek\, 136 E Thomas Place\, Beaver Creek\, CO\, 81620\, United States
CATEGORIES:Exhibit
ATTACH;FMTTYPE=image/jpeg:https://www.mcgeecompany.com/wp-content/uploads/2024/08/314501009_5821751601217341_3918014837982526582_n.jpg
END:VEVENT
BEGIN:VEVENT
DTSTART;TZID=America/Denver:20241011T110000
DTEND;TZID=America/Denver:20241015T230000
DTSTAMP:20260421T013958
CREATED:20240820T164721Z
LAST-MODIFIED:20240820T164721Z
UID:10786-1728644400-1729033200@www.mcgeecompany.com
SUMMARY:MCE (Management Conference & Exhibition) 2024
DESCRIPTION:ATA’s Management Conference & Exhibition (MCE) is the most important event of the year for trucking leaders. With thousands of attendees expected\, MCE24 will bring together the sharpest minds to tackle the top issues confronting our industry. Join us in Nashville\, TN on October 12-15\, to connect with peers\, acquire valuable insights\, and play a key role in the future of trucking.
URL:https://www.mcgeecompany.com/event/mce-management-conference-exhibition-2024/
LOCATION:Music City Center\, 201 Rep. John Lewis Way South\, Nashville\, TN\, 37203\, United States
CATEGORIES:Exhibit,Training
ATTACH;FMTTYPE=image/png:https://www.mcgeecompany.com/wp-content/uploads/2024/08/MCE24_Logo_White_310x81-copy.png
END:VEVENT
END:VCALENDAR